BEGIN:VCALENDAR
VERSION:2.0
PRODID:-//wp-events-plugin.com//7.0.4//EN
TZID:America/Indiana/Indianapolis
X-WR-TIMEZONE:America/Indiana/Indianapolis
BEGIN:VEVENT
UID:7@lotusindy.org
DTSTART;TZID=America/Indiana/Indianapolis:20240208T173000
DTEND;TZID=America/Indiana/Indianapolis:20240208T190000
DTSTAMP:20231201T193823Z
URL:https://www.lotusindy.org/events/the-peace-within-mindfulness-based-su
 pport-group-and-workshop-2024-02-08/
SUMMARY:The Peace Within: Mindfulness based support group and workshop
DESCRIPTION:You can feel better! Whether you have been struggling with depr
 ession\, anxiety\, or even difficulty managing day to day stressors\, ther
 e is a way out. There is a path to inner peace\, calmness\, and feeling yo
 ur best self. Please join me as we enter this path together\, through mind
 fulness practices.\n\nMindfulness based practices are rooted in non-judgme
 nt and total self-acceptance. Throughout this workshop\, we will meet week
 ly to practice mindfulness\, provide support\, and find new ways to heal f
 rom our hurts\, anxiety\, and depression.\n\nIs this group for me? \n\nAny
 time there is an opportunity to join a group\, I think it is important to 
 consider if the experience offered will benefit you.  Whether you have be
 en practicing mindfulness on an individual basis or you are completely new
  to the practice\, this workshop and support group will provide you an opp
 ortunity to grow in your understanding of self and build on your journey t
 owards radical self-acceptance and inner peace.  If this sounds good\, pl
 ease register today!\n\nParticipants: The group is designed for adults and
  will include all genders.\n\nFacilitators: Neva Hagedorn\, PsyD\, LCSW an
 d Courtney Bell\, graduate student\n\nCost: $400\n\nTo register: Please co
 ntact Neva Hagedorn via email @ nhagedorn@lotusindy.org
ATTACH;FMTTYPE=image/jpeg:https://www.lotusindy.org/wp-content/uploads/202
 3/09/Stone-image-for-article-9-29-23.jpg
LOCATION:Lotus Psychotherapy and consultation Services\, 740 East 52nd Stre
 et\, Suite 9\, Indianapolis\, Indiana\, 46205\, United States
X-APPLE-STRUCTURED-LOCATION;VALUE=URI;X-ADDRESS=740 East 52nd Street\, Suit
 e 9\, Indianapolis\, Indiana\, 46205\, United States;X-APPLE-RADIUS=100;X-
 TITLE=Lotus Psychotherapy and consultation Services:geo:0,0
END:VEVENT
BEGIN:VTIMEZONE
TZID:America/Indiana/Indianapolis
X-LIC-LOCATION:America/Indiana/Indianapolis
BEGIN:STANDARD
DTSTART:20231105T010000
TZOFFSETFROM:-0400
TZOFFSETTO:-0500
TZNAME:EST
END:STANDARD
END:VTIMEZONE
END:VCALENDAR